BEGIN:VCALENDAR
VERSION:2.0
CALSCALE:GREGORIAN
BEGIN:VEVENT
UID:69e9d9b84e5a7@https://www.burg-huelshoff.de
DTSTAMP:20260423T083504Z
DTSTART:20260611T193000
DTEND:20260611T213000
SUMMARY:Schreiben zwischen Interfaces, Code &amp; KI
LOCATION:Rüschhaus
END:VEVENT
END:VCALENDAR
