BEGIN:VCALENDAR
VERSION:2.0
CALSCALE:GREGORIAN
BEGIN:VEVENT
UID:69e7366054bfd@https://www.burg-huelshoff.de
DTSTAMP:20260421T083336Z
DTSTART:20260528T190000
DTEND:20260528T210000
SUMMARY:Schlüssel-Übergabe: Die Liga der sagenhaften Frauenzimmer
LOCATION:Rüschhaus
END:VEVENT
END:VCALENDAR
