BEGIN:VCALENDAR
VERSION:2.0
CALSCALE:GREGORIAN
BEGIN:VEVENT
UID:69e73637aee3d@https://www.burg-huelshoff.de
DTSTAMP:20260421T083255Z
DTSTART:20260802T111500
DTEND:20260802T124500
SUMMARY:Lyrikweg: Durch die Natur mit Literatur*
LOCATION:Burg Hülshoff
END:VEVENT
END:VCALENDAR
