BEGIN:VCALENDAR
VERSION:2.0
CALSCALE:GREGORIAN
BEGIN:VEVENT
UID:69e6595eac365@https://www.burg-huelshoff.de
DTSTAMP:20260420T165038Z
DTSTART:20260705T111500
DTEND:20260705T124500
SUMMARY:Durch die Natur mit Literatur*
LOCATION:Burg Hülshoff
END:VEVENT
END:VCALENDAR
