BEGIN:VCALENDAR
VERSION:2.0
CALSCALE:GREGORIAN
BEGIN:VEVENT
UID:69e78a66d53b5@https://www.burg-huelshoff.de
DTSTAMP:20260421T143206Z
DTSTART:20260513T120000
DTEND:20260513T140000
SUMMARY:Droste Residenz: Dichtfest
LOCATION:Burg Hülshoff
END:VEVENT
END:VCALENDAR
